BEGIN:VCALENDAR
VERSION:2.0
PRODID:-//2021//#UL FGG urnik za VOI 2 (2023/2024, letni semester)#//EN
BEGIN:VEVENT
UID:20232024letni6
DTSTART:20260216T080000
DTEND:20260216T100000
RRULE:FREQ=WEEKLY;UNTIL=20260606T000000Z
LOCATION:P-III/3
SUMMARY:Praktično usposabljanje & Projektno in izkustveno učenje 1&2 (P)\, (V ponedeljek, 25.3.2024 v P-II/6.)
DESCRIPTION:Predmet: Praktično usposabljanje & Projektno in izkustveno učenje 1&2\nVrsta: (P)\, (V ponedeljek, 25.3.2024 v P-II/6.)\nPredavalnica: P-III/3\nTermin: PONEDELJEK 08-10\nIzvajalci: \nSkupine: GIG 2\,GIG 3\,GIG II 1\,GIG II 2\,GR 2\,GR 3, modul H\,GR 3, modul K\,GR 3, modul P\,GR 3, modul S\,GR II GK 2, modul IPSRPPK\,GR II GK 2, modul JK\,GR II GK 2, modul MK\,OG 2\,OG 3, modul K\,OG 3, modul O\,OG 3, modul P\,PN II 1\,PN II 2\,ST II 1\,ST II 2\,TUN 2\,TUN 3\,VOI 2\,VOI 3\,VOI II 1\,GR II NG 1
END:VEVENT
BEGIN:VEVENT
UID:20232024letni186
DTSTART:20260216T100000
DTEND:20260216T120000
RRULE:FREQ=WEEKLY;UNTIL=20260606T000000Z
LOCATION:P-III/5
SUMMARY:Mehanika tal in inženirska geologija (P)
DESCRIPTION:Predmet: Mehanika tal in inženirska geologija\nVrsta: (P)\nPredavalnica: P-III/5\nTermin: PONEDELJEK 10-12\nIzvajalci: Pulko Boštjan\,Vukadin Vladimir\nSkupine: GR 2\,VOI 2
END:VEVENT
BEGIN:VEVENT
UID:20232024letni102
DTSTART:20260216T120000
DTEND:20260216T140000
RRULE:FREQ=WEEKLY;UNTIL=20260606T000000Z
LOCATION:H-28
SUMMARY:Hidravlika (P), (S) in (LV)
DESCRIPTION:Predmet: Hidravlika\nVrsta: (P), (S) in (LV)\nPredavalnica: H-28\nTermin: PONEDELJEK 12-14\nIzvajalci: Škerjanec Mateja\,Rak Gašper\nSkupine: VOI 2\,GR 3, modul H
END:VEVENT
BEGIN:VEVENT
UID:20232024letni104
DTSTART:20260216T140000
DTEND:20260216T150000
RRULE:FREQ=WEEKLY;UNTIL=20260606T000000Z
LOCATION:H-40
SUMMARY:Hidravlika (S)
DESCRIPTION:Predmet: Hidravlika\nVrsta: (S)\nPredavalnica: H-40\nTermin: PONEDELJEK 14-15\nIzvajalci: Škerjanec Mateja\,Rak Gašper\nSkupine: VOI 2\,GR 3, modul H
END:VEVENT
BEGIN:VEVENT
UID:20232024letni219
DTSTART:20260217T100000
DTEND:20260217T130000
RRULE:FREQ=WEEKLY;UNTIL=20260606T000000Z
LOCATION:P-I/3
SUMMARY:Organizacija gradbenih del in poslovanje (P) in (V)
DESCRIPTION:Predmet: Organizacija gradbenih del in poslovanje\nVrsta: (P) in (V)\nPredavalnica: P-I/3\nTermin: TOREK 10-13\nIzvajalci: Klinc Robert\,Srdić Aleksander\nSkupine: GR 2\,VOI 2
END:VEVENT
BEGIN:VEVENT
UID:20232024letni187
DTSTART:20260218T080000
DTEND:20260218T100000
RRULE:FREQ=WEEKLY;UNTIL=20260606T000000Z
LOCATION:P-I/3
SUMMARY:Mehanika tal in inženirska geologija (P)
DESCRIPTION:Predmet: Mehanika tal in inženirska geologija\nVrsta: (P)\nPredavalnica: P-I/3\nTermin: SREDA 08-10\nIzvajalci: Pulko Boštjan\,Vukadin Vladimir\nSkupine: GR 2\,VOI 2
END:VEVENT
BEGIN:VEVENT
UID:20232024letni220
DTSTART:20260218T100000
DTEND:20260218T130000
RRULE:FREQ=WEEKLY;UNTIL=20260606T000000Z
LOCATION:P-III/5
SUMMARY:Organizacija gradbenih del in poslovanje (P) in (V)
DESCRIPTION:Predmet: Organizacija gradbenih del in poslovanje\nVrsta: (P) in (V)\nPredavalnica: P-III/5\nTermin: SREDA 10-13\nIzvajalci: Klinc Robert\,Srdić Aleksander\nSkupine: GR 2\,VOI 2
END:VEVENT
BEGIN:VEVENT
UID:20232024letni148
DTSTART:20260218T130000
DTEND:20260218T160000
RRULE:FREQ=WEEKLY;UNTIL=20260606T000000Z
LOCATION:P-IV/7
SUMMARY:Komunalne naprave (P)
DESCRIPTION:Predmet: Komunalne naprave\nVrsta: (P)\nPredavalnica: P-IV/7\nTermin: SREDA 13-16\nIzvajalci: Krzyk Mario\,Kozelj Daniel\nSkupine: VOI 2
END:VEVENT
BEGIN:VEVENT
UID:20232024letni149
DTSTART:20260218T160000
DTEND:20260218T180000
RRULE:FREQ=WEEKLY;UNTIL=20260606T000000Z
LOCATION:P-IV/7
SUMMARY:Komunalne naprave (V)
DESCRIPTION:Predmet: Komunalne naprave\nVrsta: (V)\nPredavalnica: P-IV/7\nTermin: SREDA 16-18\nIzvajalci: Fatur Marko\nSkupine: VOI 2
END:VEVENT
BEGIN:VEVENT
UID:20232024letni240
DTSTART:20260219T080000
DTEND:20260219T100000
RRULE:FREQ=WEEKLY;UNTIL=20260606T000000Z
LOCATION:P-III/4
SUMMARY:Osnove zdravstvene hidrotehnike (V) in (LV)
DESCRIPTION:Predmet: Osnove zdravstvene hidrotehnike\nVrsta: (V) in (LV)\nPredavalnica: P-III/4\nTermin: ČETRTEK 08-10\nIzvajalci: Kolbl Repinc Sabina\nSkupine: VOI 2\,GR 3, modul H
END:VEVENT
BEGIN:VEVENT
UID:20232024letni103
DTSTART:20260220T080000
DTEND:20260220T100000
RRULE:FREQ=WEEKLY;UNTIL=20260606T000000Z
LOCATION:H-28
SUMMARY:Hidravlika (P), (S) in (LV)
DESCRIPTION:Predmet: Hidravlika\nVrsta: (P), (S) in (LV)\nPredavalnica: H-28\nTermin: PETEK 08-10\nIzvajalci: Škerjanec Mateja\,Rak Gašper\nSkupine: VOI 2\,GR 3, modul H
END:VEVENT
BEGIN:VEVENT
UID:20232024letni190
DTSTART:20260220T110000
DTEND:20260220T140000
RRULE:FREQ=WEEKLY;UNTIL=20260606T000000Z
LOCATION:P-III/4
SUMMARY:Mehanika tal in inženirska geologija (LV)\, (prvih 10t v LMTal, potem v P  III/4)
DESCRIPTION:Predmet: Mehanika tal in inženirska geologija\nVrsta: (LV)\, (prvih 10t v LMTal, potem v P  III/4)\nPredavalnica: P-III/4\nTermin: PETEK 11-14\nIzvajalci: Smolar Jasna\nSkupine: GR 2/3\,VOI 2
END:VEVENT
END:VCALENDAR